BEGIN:VCALENDAR
VERSION:2.0
PRODID:-//Learning for Sustainability Scotland - ECPv6.15.20//NONSGML v1.0//EN
CALSCALE:GREGORIAN
METHOD:PUBLISH
X-WR-CALNAME:Learning for Sustainability Scotland
X-ORIGINAL-URL:https://learningforsustainabilityscotland.org
X-WR-CALDESC:Events for Learning for Sustainability Scotland
REFRESH-INTERVAL;VALUE=DURATION:PT1H
X-Robots-Tag:noindex
X-PUBLISHED-TTL:PT1H
BEGIN:VTIMEZONE
TZID:Europe/London
BEGIN:DAYLIGHT
TZOFFSETFROM:+0000
TZOFFSETTO:+0100
TZNAME:BST
DTSTART:20230326T010000
END:DAYLIGHT
BEGIN:STANDARD
TZOFFSETFROM:+0100
TZOFFSETTO:+0000
TZNAME:GMT
DTSTART:20231029T010000
END:STANDARD
BEGIN:DAYLIGHT
TZOFFSETFROM:+0000
TZOFFSETTO:+0100
TZNAME:BST
DTSTART:20240331T010000
END:DAYLIGHT
BEGIN:STANDARD
TZOFFSETFROM:+0100
TZOFFSETTO:+0000
TZNAME:GMT
DTSTART:20241027T010000
END:STANDARD
BEGIN:DAYLIGHT
TZOFFSETFROM:+0000
TZOFFSETTO:+0100
TZNAME:BST
DTSTART:20250330T010000
END:DAYLIGHT
BEGIN:STANDARD
TZOFFSETFROM:+0100
TZOFFSETTO:+0000
TZNAME:GMT
DTSTART:20251026T010000
END:STANDARD
END:VTIMEZONE
BEGIN:VEVENT
DTSTART;TZID=Europe/London:20240311T080000
DTEND;TZID=Europe/London:20240414T170000
DTSTAMP:20260419T163231
CREATED:20240212T180503Z
LAST-MODIFIED:20240212T180659Z
UID:8467-1710144000-1713114000@learningforsustainabilityscotland.org
SUMMARY:It's back! Join a worldwide learning community with 'Learning for a Sustainable Future'
DESCRIPTION:Climate change\, gender equality\, biodiversity collapse\, health\, social equity\, and inclusion are issues that affect us all\, impacting human and planetary well-being\, and economic stability. How to live a sustainable life affects – and connects – everyone. \n\n\n\nWe’re delighted to announce the return of ‘Learning for a Sustainable Future’; our highly successful online learning opportunity\, which has\, to date\, attracted over 17\,000 learners from nearly 160 countries. \n\n\n\nDeveloped in partnership with the University of Edinburgh and the British Council\, this is a FREE\, five-week\, facilitated course\, starting on 11 March. \n\n\n\nYou’ll develop an informed personal response to major global challenges as you’re supported to take positive actions towards a sustainable future. You’ll learn more about current global issues and consider how we can all take action\, personally or locally. The course has an additional strand for those working in formal or informal education\, who want to bring some of the activities and issues covered in the course into their own teaching. \n\n\n\nClick here to sign up.
URL:https://learningforsustainabilityscotland.org/events/its-back-join-a-worldwide-learning-community-with-learning-for-a-sustainable-future/
CATEGORIES:Colleges,Communities,CPD Courses,Learning for Sustainability,Schools and early learning,Universities,Youth
ATTACH;FMTTYPE=image/png:https://learningforsustainabilityscotland.org/wp-content/uploads/2024/02/Learning-for-a-Sustainable-Future-rectangle.png
END:VEVENT
END:VCALENDAR