BEGIN:VCALENDAR
VERSION:2.0
PRODID:-//Learning for Sustainability Scotland - ECPv6.15.20//NONSGML v1.0//EN
CALSCALE:GREGORIAN
METHOD:PUBLISH
X-ORIGINAL-URL:https://learningforsustainabilityscotland.org
X-WR-CALDESC:Events for Learning for Sustainability Scotland
REFRESH-INTERVAL;VALUE=DURATION:PT1H
X-Robots-Tag:noindex
X-PUBLISHED-TTL:PT1H
BEGIN:VTIMEZONE
TZID:Europe/London
BEGIN:DAYLIGHT
TZOFFSETFROM:+0000
TZOFFSETTO:+0100
TZNAME:BST
DTSTART:20210328T010000
END:DAYLIGHT
BEGIN:STANDARD
TZOFFSETFROM:+0100
TZOFFSETTO:+0000
TZNAME:GMT
DTSTART:20211031T010000
END:STANDARD
BEGIN:DAYLIGHT
TZOFFSETFROM:+0000
TZOFFSETTO:+0100
TZNAME:BST
DTSTART:20220327T010000
END:DAYLIGHT
BEGIN:STANDARD
TZOFFSETFROM:+0100
TZOFFSETTO:+0000
TZNAME:GMT
DTSTART:20221030T010000
END:STANDARD
BEGIN:DAYLIGHT
TZOFFSETFROM:+0000
TZOFFSETTO:+0100
TZNAME:BST
DTSTART:20230326T010000
END:DAYLIGHT
BEGIN:STANDARD
TZOFFSETFROM:+0100
TZOFFSETTO:+0000
TZNAME:GMT
DTSTART:20231029T010000
END:STANDARD
END:VTIMEZONE
BEGIN:VEVENT
DTSTART;TZID=Europe/London:20220818T120000
DTEND;TZID=Europe/London:20220818T133000
DTSTAMP:20260422T221939
CREATED:20220701T104654Z
LAST-MODIFIED:20220822T133239Z
UID:7259-1660824000-1660829400@learningforsustainabilityscotland.org
SUMMARY:Collaboration to scale up community action on sustainability
DESCRIPTION:Click here to book your place \n\n\n\n \n\n\n\nMany public sector bodies\, including local authorities\, have a mandate to support sustainability action and to facilitate community engagement in their regions. At the same time\, many community-led initiatives and intentional communities are developing creative regenerative practices. The aim of this workshop is to explore how we can scale up community efforts through collaboration\, especially between communities and local authorities but also involving other actors. We will draw on the results and tools developed in an Erasmus Plus project and pilot their use in Scotland and beyond. \n\n\n\nThe Ecovillage Transition in Action project \n\n\n\nWe are delighted to be able to offer this workshop from our Erasmus Plus-funded project Ecovillage Transition in Action (ETiA). We are coming towards the end of this innovative\, international project and we are looking forward to sharing the results of our hard work with different audiences and seeing how they might support your work. \n\n\n\nThe project developed through the partnership of the Global Ecovillage Network (GEN)\, GEN Deutschland\, Hurdal Ecovillage\, ECOLISE and University of St Andrews\, Scotland. We comprised a group including facilitators\, trainers and academics. All of us had experience of living and working in a community\, and most of us had worked with or in local authorities\, NGOs and global organisations such as UNESCO. \n\n\n\nThe project researched the following questions: \n\n\n\nHow do we scale up regenerative practices that are developed and implemented in community-led initiatives such as Ecovillages and Transition Towns?How do we implement and embed local authority sustainability policies in communities?How do we support thriving collaborations to collectively achieve sustainability transitions beyond the community level?\n\n\n\nThe team produced a Handbook\, along with a Trainers’ handbook\, a Toolkit of resources and a Navigation tool to facilitate better collaboration between community led initiatives and local authorities and other partners and to enable them to co-create a better future.  In this workshop we will explore how to thrive and scale through collaboration\, using these tools and more. \n\n\n\nWorkshop detail \n\n\n\nThe meeting will take place online 18th August 12:00 to 13:30 in collaboration with Sustainable Scotland Network and Learning for Sustainability Scotland. \n\n\n\nClick here to book your place.
URL:https://learningforsustainabilityscotland.org/events/collaboration-to-scale-up-community-action-on-sustainability/
CATEGORIES:Communities,Networking event,Skills Workshops
END:VEVENT
END:VCALENDAR