BEGIN:VCALENDAR
VERSION:2.0
PRODID:-//Learning for Sustainability Scotland - ECPv6.15.20//NONSGML v1.0//EN
CALSCALE:GREGORIAN
METHOD:PUBLISH
X-ORIGINAL-URL:https://learningforsustainabilityscotland.org
X-WR-CALDESC:Events for Learning for Sustainability Scotland
REFRESH-INTERVAL;VALUE=DURATION:PT1H
X-Robots-Tag:noindex
X-PUBLISHED-TTL:PT1H
BEGIN:VTIMEZONE
TZID:Europe/London
BEGIN:DAYLIGHT
TZOFFSETFROM:+0000
TZOFFSETTO:+0100
TZNAME:BST
DTSTART:20220327T010000
END:DAYLIGHT
BEGIN:STANDARD
TZOFFSETFROM:+0100
TZOFFSETTO:+0000
TZNAME:GMT
DTSTART:20221030T010000
END:STANDARD
BEGIN:DAYLIGHT
TZOFFSETFROM:+0000
TZOFFSETTO:+0100
TZNAME:BST
DTSTART:20230326T010000
END:DAYLIGHT
BEGIN:STANDARD
TZOFFSETFROM:+0100
TZOFFSETTO:+0000
TZNAME:GMT
DTSTART:20231029T010000
END:STANDARD
BEGIN:DAYLIGHT
TZOFFSETFROM:+0000
TZOFFSETTO:+0100
TZNAME:BST
DTSTART:20240331T010000
END:DAYLIGHT
BEGIN:STANDARD
TZOFFSETFROM:+0100
TZOFFSETTO:+0000
TZNAME:GMT
DTSTART:20241027T010000
END:STANDARD
BEGIN:DAYLIGHT
TZOFFSETFROM:+0000
TZOFFSETTO:+0100
TZNAME:BST
DTSTART:20250330T010000
END:DAYLIGHT
BEGIN:STANDARD
TZOFFSETFROM:+0100
TZOFFSETTO:+0000
TZNAME:GMT
DTSTART:20251026T010000
END:STANDARD
END:VTIMEZONE
BEGIN:VEVENT
DTSTART;TZID=Europe/London:20231023T080000
DTEND;TZID=Europe/London:20231126T170000
DTSTAMP:20260423T172119
CREATED:20231002T211942Z
LAST-MODIFIED:20231020T101723Z
UID:8231-1698048000-1701018000@learningforsustainabilityscotland.org
SUMMARY:It's back! 'Learning for a Sustainable Future' starts again 23 October
DESCRIPTION:We’re delighted to be running our ‘Learning for a Sustainable Future’ MOOC (Massive Open Online Course) once again. Since 2021\, over 6\,000 people from over 100 countries have taken part in this collaborative\, facilitated learning opportunity. \n\n\n\nJoin a personal and professional global learning journey towards a sustainable future.  \n\n\n\nWhat on Earth could be more important? \n\n\n\n\nClimate change\, gender equality\, health\, social equity\, and inclusion are issues that affect us all\, impacting human well-being and economic stability. How to live a sustainable life affects – and connects – everyone. \n    \n                \n    \n    \n\n\n\nOn this FREE five-week course\, you’ll develop an informed personal response to these major challenges as you’re supported to take positive actions towards a sustainable future. \n\n\n\nYou’ll learn more about current global issues and consider how we can all take action\, personally or locally. \n\n\n\nThe course has an additional strand for those working in formal or informal education\, who want to bring some of the activities and issues covered in the course into their own teaching. \n\n\n\n \n\n\n\nFind out more and sign up here. Complete the course before 14 December for a FREE certificate of participation.
URL:https://learningforsustainabilityscotland.org/events/its-back-learning-for-sustainable-future-starts-23-october/
CATEGORIES:Colleges,Communities,CPD Courses,Learning for Sustainability,LfS,Policy engagement,Schools and early learning,Universities,Youth
ATTACH;FMTTYPE=image/jpeg:https://learningforsustainabilityscotland.org/wp-content/uploads/2023/10/MOOC-learner-feedback.jpg
END:VEVENT
BEGIN:VEVENT
DTSTART;TZID=Europe/London:20231030T000000
DTEND;TZID=Europe/London:20240229T235959
DTSTAMP:20260423T172119
CREATED:20230807T155922Z
LAST-MODIFIED:20230822T135815Z
UID:8138-1698624000-1709251199@learningforsustainabilityscotland.org
SUMMARY:Bringing the STEM curriculum to life: learning for a sustainable world
DESCRIPTION:This professional learning programme\, developed by Learning for Sustainability Scotland\, is part of Education Scotland’s STEM professional learning programme for 2023-24.\n\n\n\nJoin us on an interactive\, collaborative facilitated online learning journey that will help you to plan for\, weave together and embed Learning for Sustainability (LfS) across your everyday STEM practice; inspiring real-life\, relevant\, meaningful and transformative learning about the big issues that shape our world. \n\n\n\nWho is this course for?\n\n\n\nThis course is open to senior leadership teams\, teachers\, and early years practitioners from local authority-funded 3-18 yrs settings within the South West and South East Regional Improvement Collaboratives (i.e. Dumfries & Galloway\, East Ayrshire\, East Lothian\, City of Edinburgh\, Fife\, Midlothian\, North Ayrshire\, Scottish Borders and South Ayrshire).  \n\n\n\nWe are particularly keen to encourage interdisciplinary\, whole-setting\, cross-sectoral and inter-authority collaboration and networking. \n\n\n\nFind out more and book your FREE place here.
URL:https://learningforsustainabilityscotland.org/events/bringing-the-stem-curriculum-to-life-learning-for-a-sustainable-world/
CATEGORIES:CPD Courses,CPD for teachers,Learning for Sustainability,LfS,Policy engagement,Schools and early learning
ATTACH;FMTTYPE=image/png:https://learningforsustainabilityscotland.org/wp-content/uploads/2023/08/Text-with-all-logos-Twitter.png
END:VEVENT
END:VCALENDAR