BEGIN:VCALENDAR
VERSION:2.0
PRODID:-//Learning for Sustainability Scotland - ECPv6.15.20//NONSGML v1.0//EN
CALSCALE:GREGORIAN
METHOD:PUBLISH
X-ORIGINAL-URL:https://learningforsustainabilityscotland.org
X-WR-CALDESC:Events for Learning for Sustainability Scotland
REFRESH-INTERVAL;VALUE=DURATION:PT1H
X-Robots-Tag:noindex
X-PUBLISHED-TTL:PT1H
BEGIN:VTIMEZONE
TZID:Europe/London
BEGIN:DAYLIGHT
TZOFFSETFROM:+0000
TZOFFSETTO:+0100
TZNAME:BST
DTSTART:20220327T010000
END:DAYLIGHT
BEGIN:STANDARD
TZOFFSETFROM:+0100
TZOFFSETTO:+0000
TZNAME:GMT
DTSTART:20221030T010000
END:STANDARD
BEGIN:DAYLIGHT
TZOFFSETFROM:+0000
TZOFFSETTO:+0100
TZNAME:BST
DTSTART:20230326T010000
END:DAYLIGHT
BEGIN:STANDARD
TZOFFSETFROM:+0100
TZOFFSETTO:+0000
TZNAME:GMT
DTSTART:20231029T010000
END:STANDARD
BEGIN:DAYLIGHT
TZOFFSETFROM:+0000
TZOFFSETTO:+0100
TZNAME:BST
DTSTART:20240331T010000
END:DAYLIGHT
BEGIN:STANDARD
TZOFFSETFROM:+0100
TZOFFSETTO:+0000
TZNAME:GMT
DTSTART:20241027T010000
END:STANDARD
END:VTIMEZONE
BEGIN:VEVENT
DTSTART;TZID=Europe/London:20230928T110000
DTEND;TZID=Europe/London:20230928T121500
DTSTAMP:20260423T153646
CREATED:20230726T212451Z
LAST-MODIFIED:20230922T134954Z
UID:8121-1695898800-1695903300@learningforsustainabilityscotland.org
SUMMARY:Youth Work and Scotland’s refreshed Learning for Sustainability Action Plan
DESCRIPTION:“Making Learning for Sustainability a key driver in the future of Scottish education will not only enable us to heed the call to action from learners but will allow us to achieve much more besides. All of our policy ambitions in relation to the UN Sustainable Development Goals (SDGs)\, United Nations Convention on the Rights of the Child\, climate and net zero\, biodiversity\, circular economy\, and economic and social transformation can only be delivered with the commitment of Scotland’s people\, supported throughout their education.” \n\n\n\nWe’re delighted to welcome Scotland’s refreshed national Learning for Sustainability (LfS) Action Plan: ‘Target 2030: a movement for people\, planet and prosperity’ which was launched on 23rd June. \n\n\n\nJoin us\, YouthLink Scotland\, Education Scotland and Stirling Council as we discuss and examine the Plan and ways in which to: \n\n\n\n\nUnderstand the context and content of the refreshed Scottish Government LfS Action Plan and its relevance to youth work\n\n\n\nConsider how youth workers can engage with the LfS Action Plan’s Target 2030 ‘Call to Action’\n\n\n\nIdentify opportunities for connecting and collaborating with others and between sectors (e.g. communities/ youth/ schools/ colleges/ universities)\n\n\n\nShare relevant planned activities\, resources and strategies that will support young people.\n\n\n\n\nWe look forward to welcoming you! \n\n\n\n \n\n\n\nClick here to reserve your FREE place. \n\n\n\nClick here to read Learning for Sustainability Scotland’s response to the launch of the Plan.
URL:https://learningforsustainabilityscotland.org/events/youth-work-and-scotlands-refreshed-learning-for-sustainability-action-plan/
CATEGORIES:Learning for Sustainability,Policy engagement,Youth
ATTACH;FMTTYPE=image/png:https://learningforsustainabilityscotland.org/wp-content/uploads/2023/07/YouthLink-Scotland-LfSS-28-Sept-2023.png
END:VEVENT
BEGIN:VEVENT
DTSTART;TZID=Europe/London:20230928T160000
DTEND;TZID=Europe/London:20230928T171500
DTSTAMP:20260423T153646
CREATED:20230724T113940Z
LAST-MODIFIED:20230818T120934Z
UID:8112-1695916800-1695921300@learningforsustainabilityscotland.org
SUMMARY:Learning for Sustainability and the Professional Standards – monthly Connect session #11: celebrating Scotland's new Learning for Sustainability Action Plan
DESCRIPTION:Learning for Sustainability is an international and national priority in education. \n\n\n\nMaking a professional commitment to learning and learners that is compatible with the aspiration of achieving a sustainable and equitable world embodies what it is to be a teacher in Scotland. \n\n\n\nIn Scotland\, the Professional Standards for teachers are underpinned by Learning for Sustainability as a key cross-cutting theme; interdependent with the other key cross-cutting themes of Values and Leadership. \n\n\n\nJoin us and the General Teaching Council for Scotland at our monthly drop-in sessions to connect with other practitioners and contributors to share\, celebrate and discuss more about Learning for Sustainability and what it means for you\, your practice\, your setting and your wider learning community. \n\n\n\nClick here to reserve your FREE place.
URL:https://learningforsustainabilityscotland.org/events/learning-for-sustainability-and-the-professional-standards-monthly-drop-in-11-celebrating-scotlands-new-learning-for-sustainability-action-plan/
CATEGORIES:Colleges,Communities,CPD for teachers,Learning for Sustainability,LfS,Policy engagement,Schools and early learning,Universities,Youth
ATTACH;FMTTYPE=image/png:https://learningforsustainabilityscotland.org/wp-content/uploads/2022/03/GTCS-Eventbrite.png
END:VEVENT
END:VCALENDAR