BEGIN:VCALENDAR
VERSION:2.0
PRODID:-//Learning for Sustainability Scotland - ECPv6.15.20//NONSGML v1.0//EN
CALSCALE:GREGORIAN
METHOD:PUBLISH
X-ORIGINAL-URL:https://learningforsustainabilityscotland.org
X-WR-CALDESC:Events for Learning for Sustainability Scotland
REFRESH-INTERVAL;VALUE=DURATION:PT1H
X-Robots-Tag:noindex
X-PUBLISHED-TTL:PT1H
BEGIN:VTIMEZONE
TZID:Europe/London
BEGIN:DAYLIGHT
TZOFFSETFROM:+0000
TZOFFSETTO:+0100
TZNAME:BST
DTSTART:20210328T010000
END:DAYLIGHT
BEGIN:STANDARD
TZOFFSETFROM:+0100
TZOFFSETTO:+0000
TZNAME:GMT
DTSTART:20211031T010000
END:STANDARD
BEGIN:DAYLIGHT
TZOFFSETFROM:+0000
TZOFFSETTO:+0100
TZNAME:BST
DTSTART:20220327T010000
END:DAYLIGHT
BEGIN:STANDARD
TZOFFSETFROM:+0100
TZOFFSETTO:+0000
TZNAME:GMT
DTSTART:20221030T010000
END:STANDARD
BEGIN:DAYLIGHT
TZOFFSETFROM:+0000
TZOFFSETTO:+0100
TZNAME:BST
DTSTART:20230326T010000
END:DAYLIGHT
BEGIN:STANDARD
TZOFFSETFROM:+0100
TZOFFSETTO:+0000
TZNAME:GMT
DTSTART:20231029T010000
END:STANDARD
BEGIN:DAYLIGHT
TZOFFSETFROM:+0000
TZOFFSETTO:+0100
TZNAME:BST
DTSTART:20240331T010000
END:DAYLIGHT
BEGIN:STANDARD
TZOFFSETFROM:+0100
TZOFFSETTO:+0000
TZNAME:GMT
DTSTART:20241027T010000
END:STANDARD
BEGIN:DAYLIGHT
TZOFFSETFROM:+0000
TZOFFSETTO:+0100
TZNAME:BST
DTSTART:20250330T010000
END:DAYLIGHT
BEGIN:STANDARD
TZOFFSETFROM:+0100
TZOFFSETTO:+0000
TZNAME:GMT
DTSTART:20251026T010000
END:STANDARD
BEGIN:DAYLIGHT
TZOFFSETFROM:+0000
TZOFFSETTO:+0100
TZNAME:BST
DTSTART:20260329T010000
END:DAYLIGHT
BEGIN:STANDARD
TZOFFSETFROM:+0100
TZOFFSETTO:+0000
TZNAME:GMT
DTSTART:20261025T010000
END:STANDARD
BEGIN:DAYLIGHT
TZOFFSETFROM:+0000
TZOFFSETTO:+0100
TZNAME:BST
DTSTART:20270328T010000
END:DAYLIGHT
BEGIN:STANDARD
TZOFFSETFROM:+0100
TZOFFSETTO:+0000
TZNAME:GMT
DTSTART:20271031T010000
END:STANDARD
END:VTIMEZONE
BEGIN:VEVENT
DTSTART;TZID=Europe/London:20260115T150000
DTEND;TZID=Europe/London:20260115T171500
DTSTAMP:20260423T134739
CREATED:20251114T171416Z
LAST-MODIFIED:20251114T171438Z
UID:9966-1768489200-1768497300@learningforsustainabilityscotland.org
SUMMARY:Learning for Sustainability Scotland 2025 AGM and online Gathering: Sustaining the human spirit through renewal and solidarity in learning
DESCRIPTION:We warmly invite our members to join us online for our 2025 Annual Gathering and AGM.\n\n\n\nThis event will provide members with the opportunity to: \n\n\n\n\nHear an update on our activities over the past year\n\n\n\nLearn about new LfS developments in Scotland and internationally\n\n\n\nConnect with other members\n\n\n\nCelebrate the achievements of members who have developed approaches to sustain the human spirit through renewal and solidarity in learning\n\n\n\nShare and reflect on their own examples of these kinds of approaches.\n\n\n\n\nPlease click here to view the draft Programme. \n\n\n\n \n\n\n\nWould you like to share an example of your activity at our AGM?\n\n\n\nPlease let us know in this sign-up form and tell us more about it by 17:00 on Wednesday 26th November. You will have five minutes to share your story and visual/audio accompaniments are very welcome. \n\n\n\nWe look forward to welcoming you to this event. \n\n\n\nWarmest wishes\, \n\n\n\nThe Learning for Sustainability Scotland Team
URL:https://learningforsustainabilityscotland.org/events/learning-for-sustainability-scotland-2025-agm-and-online-gathering-sustaining-the-human-spirit-through-renewal-and-solidarity-in-learning/
CATEGORIES:Colleges,Communities,Members' Event,Networking event,Policy engagement,Schools and early learning,Universities,Youth
ATTACH;FMTTYPE=image/png:https://learningforsustainabilityscotland.org/wp-content/uploads/2025/11/1.-AGM-15-Jan.png
END:VEVENT
BEGIN:VEVENT
DTSTART;TZID=Europe/London:20251118T160000
DTEND;TZID=Europe/London:20251118T170000
DTSTAMP:20260423T134739
CREATED:20251111T165000Z
LAST-MODIFIED:20251111T165017Z
UID:9959-1763481600-1763485200@learningforsustainabilityscotland.org
SUMMARY:Have your say on Scotland's School Inspections
DESCRIPTION:Learning for Sustainability Scotland invites you to join them online on Tuesday 18 November from 16:00-17:00 for a discussion on Scotland’s School Inspections Consultation.\n\n\n\n \n\n\n\nWhy are we holding this event?\n\n\n\nThe way in which school inspections work in Scotland is being reviewed – and His Majesty’s Inspectorate of Education in Scotland wants your views. \n\n\n\nYour feedback will shape how inspections can be made fairer\, more transparent\, and more focused on what matters most for children and young people. \n\n\n\nThis consultation is a key part of the education inspectorate system-wide review of school inspections. It will inform how the inspection process is strengthened as a driver of improvement and public assurance on the quality of education. \n\n\n\nJoin us online on Tuesday 18th November to hear more. Our event aims to:\n\n\n\n\nraise awareness about the proposed Schools Inspection changes\n\n\n\ngenerate discussion and gather views on the format\, purpose and content of the new inspection process: including the place of Learning for Sustainability in this\n\n\n\ncollate input from participants to generate a response to the Consultation\n\n\n\nencourage others to submit their own informed\, independent contributions to the Consultation.\n\n\n\n\nPlease book your FREE place by completing this registration form. \n\n\n\nJoining details for this event will be sent to you in due course. \n\n\n\nWe look forward to welcoming you.
URL:https://learningforsustainabilityscotland.org/events/have-your-say-on-scotlands-school-inspections/
CATEGORIES:Colleges,Learning for Sustainability,Members' Event,Policy engagement,Schools and early learning,Universities,Youth
ATTACH;FMTTYPE=image/png:https://learningforsustainabilityscotland.org/wp-content/uploads/2025/11/Responding-to-the-School-Inspections-consultation-18-Nov-2025.png
END:VEVENT
BEGIN:VEVENT
DTSTART;TZID=Europe/London:20250813T123000
DTEND;TZID=Europe/London:20250813T133000
DTSTAMP:20260423T134739
CREATED:20250723T154400Z
LAST-MODIFIED:20250723T171512Z
UID:9503-1755088200-1755091800@learningforsustainabilityscotland.org
SUMMARY:Responding to Scotland's Wellbeing & Sustainable Development Bill
DESCRIPTION:SDG Network Scotland and Learning for Sustainability Scotland invite you to join them online for further discussion on Scotland’s proposed Wellbeing and Sustainable Development Bill. \n\n\n\n\nFollowing an initial consultation in 2024\, Sarah Boyack MSP has introduced this Member’s Bill\, which will promote consideration by public bodies of sustainable development and the wellbeing of future generations.  \n\n\n\nClick here for our response to the initial consultation in 2024. \n    \n                    \n                \n    \n    \n\n\n\nWhat are the aims of this event? \n\n\n\n\nto hear more about the ambitions of this proposed Bill\n\n\n\nto raise awareness about the UN Sustainable Development Goals and the Bill\n\n\n\nto generate discussion on policy coherence and preferences\n\n\n\nto collate input from participants to generate a response for the proposed Bill\n\n\n\nto encourage others to submit informed\, independent contributions to the consultation\n\n\n\n\nClick here to book your FREE place. \n\n\n\nJoining details for this event will be sent to you in due course. \n\n\n\nWe look forward to welcoming you. \n\n\n\nSDG Network Scotland and Learning for Sustainability Scotland
URL:https://learningforsustainabilityscotland.org/events/responding-to-scotlands-wellbeing-sustainable-development-bill/
CATEGORIES:Members' Event,Policy engagement
ATTACH;FMTTYPE=image/png:https://learningforsustainabilityscotland.org/wp-content/uploads/2025/07/Responding-to-Scotlands-Wellbeing-and-Sustainable-Development-Bill-Aug-2025.png
END:VEVENT
BEGIN:VEVENT
DTSTART;TZID=Europe/London:20250109T100000
DTEND;TZID=Europe/London:20250109T123000
DTSTAMP:20260423T134739
CREATED:20241101T183116Z
LAST-MODIFIED:20241219T161126Z
UID:8930-1736416800-1736425800@learningforsustainabilityscotland.org
SUMMARY:Learning for Sustainability Scotland Annual Gathering and 2024 AGM
DESCRIPTION:We warmly invite our members to join us online for our 2024 Annual Gathering and AGM; where we will also announce the results of the election of our new Steering Group for 2025-2027. \n\n\n\nThis event will provide members with the opportunity to: \n\n\n\n\nHear an update on our activities over the past year\n\n\n\nLearn about new LfS developments in Scotland and internationally\n\n\n\nConnect with other members\n\n\n\nCelebrate the achievements of members who have developed creative approaches to address controversial sustainability issues.\n\n\n\nShare their own examples of these kinds of approaches. \n\n\n\n\n\nPlease click here to book your place. \n\n\n\nWe look forward to welcoming you to this event.
URL:https://learningforsustainabilityscotland.org/events/learning-for-sustainability-scotland-annual-gathering-and-2024-agm/
CATEGORIES:Members' Event
ATTACH;FMTTYPE=image/png:https://learningforsustainabilityscotland.org/wp-content/uploads/2024/11/2024.png
END:VEVENT
BEGIN:VEVENT
DTSTART;TZID=Europe/London:20240320T160000
DTEND;TZID=Europe/London:20240320T171500
DTSTAMP:20260423T134739
CREATED:20240221T145131Z
LAST-MODIFIED:20240221T192705Z
UID:8488-1710950400-1710954900@learningforsustainabilityscotland.org
SUMMARY:Responding to Scotland's Good Food Nation consultation
DESCRIPTION:Join us and Nourish Scotland to share your views on the Scottish Government’s national Good Food Nation Plan.  \n\n\n\n“We have set out a vision for Scotland to be a Good Food Nation\, where people from every walk of life take pride and pleasure in\, and benefit from\, the food they produce\, buy\, cook\, serve\, and eat each day. \n\n\n\nThis Plan is the first of many steps to progress food system transformation in Scotland. This consultation covers the content of the first national Good Food Nation Plan and asks your views on the national Good Food Nation Outcomes; ways of measuring progress; and how different groups envision life in a Good Food Nation. \n\n\n\nThis first national Good Food Nation Plan represents how the Scottish Government intends to use the powers and levers we have to work collectively with people\, communities\, businesses\, agencies and organisations to meet our Good Food Nation ambitions.” Scottish Government\, Jan 2024 \n\n\n\nClick here to book your place.
URL:https://learningforsustainabilityscotland.org/events/responding-to-scotlands-good-food-nation-consultation/
CATEGORIES:Members' Event,Policy engagement
ATTACH;FMTTYPE=image/png:https://learningforsustainabilityscotland.org/wp-content/uploads/2024/02/A-master.png
END:VEVENT
BEGIN:VEVENT
DTSTART;TZID=Europe/London:20240111T140000
DTEND;TZID=Europe/London:20240111T193000
DTSTAMP:20260423T134739
CREATED:20231123T135031Z
LAST-MODIFIED:20231215T142624Z
UID:8302-1704981600-1705001400@learningforsustainabilityscotland.org
SUMMARY:Our 2023 Annual Gathering and AGM: Celebrating ten years of LfSS
DESCRIPTION:We warmly invite Learning for Sustainability Scotland’s members to join us for an extra-special in-person Annual Gathering and AGM on Thursday 11 January 2024; where we’ll be celebrating our ten-year anniversary. \n\n\n\nThere will be two parts to this event and members can choose to attend one or both of these : \n\n\n\n\nOur Annual Gathering and AGM at Moray House\, University of Edinburgh (14:00 – 17:00)\n\n\n\nEvening Reception at the Playfair Library\, University of Edinburgh (18:00 – 19:30)\n\n\n\n\nClick here to view the Agenda for the Annual Gathering and AGM. \n\n\n\nClick here to book your FREE place at one or both of these events now.                                                                                                     Please note that places are limited\, so early booking is advised. \n\n\n\nBoth elements will provide an opportunity for members and invited guests to: \n\n\n\n\n\nNetwork and connect with others\n\n\n\nHear an update on LfSS activities\n\n\n\nLearn about and share new developments across Scotland and internationally\n\n\n\nCelebrate the achievements of members\n\n    \n                    \n                \n    \n    \n\n\n\nWe look forward to having you join us for this special event.  \n\n\n\nNetworking and tea/coffee for part one of the day will be available from 13:30. \n\n\n\nAs always\, please don’t hesitate to contact us at enquiries@lfsscotland.org if you need any additional information. \n\n\n\nWe look forward to welcoming you! \n\n\n\nLearning for Sustainability Scotland
URL:https://learningforsustainabilityscotland.org/events/our-2023-annual-gathering-and-agm-celebrating-ten-years-of-lfss/
CATEGORIES:Colleges,Communities,Learning for Sustainability,LfS,LfS Conference,Members' Event,Networking event,Schools and early learning,Skills Workshops,Universities,Youth
ATTACH;FMTTYPE=image/jpeg:https://learningforsustainabilityscotland.org/wp-content/uploads/2023/11/LfSS-with-RCE-logos-final.jpg
END:VEVENT
BEGIN:VEVENT
DTSTART;TZID=Europe/London:20230525T100000
DTEND;TZID=Europe/London:20230525T130000
DTSTAMP:20260423T134739
CREATED:20230425T191237Z
LAST-MODIFIED:20230505T115257Z
UID:7987-1685008800-1685019600@learningforsustainabilityscotland.org
SUMMARY:'Learning in a changing climate: a Peruvian-Scottish exchange
DESCRIPTION:What are the key competencies that students and educators need to engage constructively and responsibly with today’s world\, and how can they be assessed? \n\n\n\nThis in-person intercultural exchange workshop with educators from Peru and Scotland offers an opportunity for exchange and dialogue about appropriate curricula and pedagogies in response to the global and local climate and nature crises we face. The exchange builds on outputs from education for sustainable development (ESD) collaborations between Scotland and Peru and in the Erasmus+ ESD SuperVision 4.0 project with partners from across Europe. \n\n\n\nJ﻿oin us on 25 May to: \n\n\n\n• Hear about approaches to developing values\, skills and knowledges for climate adaptation and sustainability \n\n\n\n• Explore the curricular interventions needed to equip learners to adapt to our everchanging world \n\n\n\n• Share perspectives on Learning for Sustainability challenges and opportunities \n\n\n\nThis will be an in-person event\, held at the Moray House School of Education and Sport in Edinburgh. The event will be followed by a networking lunch. \n\n\n\nDemand for this event is likely to be high and places are limited\, so please do let us know ASAP if you have signed up and are subsequently unable to attend in order that we can offer your place to another participant. \n\n\n\nClick here to book your place
URL:https://learningforsustainabilityscotland.org/events/learning-in-a-changing-climate-a-peruvian-scottish-exchange/
CATEGORIES:Learning for Sustainability,Members' Event,Networking event
ATTACH;FMTTYPE=image/jpeg:https://learningforsustainabilityscotland.org/wp-content/uploads/2023/04/Peru-Scotland-event-May-2023.jpg
END:VEVENT
BEGIN:VEVENT
DTSTART;TZID=Europe/London:20230523T160000
DTEND;TZID=Europe/London:20230523T170000
DTSTAMP:20260423T134739
CREATED:20230425T194419Z
LAST-MODIFIED:20230505T115219Z
UID:7990-1684857600-1684861200@learningforsustainabilityscotland.org
SUMMARY:Learning for Sustainability and the National Outcomes for Scotland
DESCRIPTION:What kind of Scotland do you want to see? \n\n\n\nHave your say on the blueprint for Scotland – the National Performance Framework. \n\n\n\nScotland’s National Performance Framework was revised and published in 2018. It contains eleven National Outcomes that shape both national and local policy – and all of these are aligned to the UN Sustainable Development Goals. \n\n\n\nThe Scottish Government wants to hear from people and communities across Scotland about whether the Framework – and the National Outcomes it contains – continues to reflect the kind of Scotland we want to see. They would also like to hear about how the National Performance Framework could have a bigger impact. \n\n\n\nWe warmly invite our members to j﻿oin Learning for Sustainability Scotland and the Scottish Government on Tuesday\, 23 May to hear more and be part of the discussion. \n\n\n\nYou will have the opportunity to: \n\n\n\n\nHear more about the Scottish Government’s consultation on the review of Scotland’s National Outcomes\n\n\n\nDiscuss and share your vision for Learning for Sustainability and the Outcomes with other members\n\n\n\nHear more about how Learning for Sustainability Scotland will use the outputs of this session to respond to this consultation on behalf of members\n\n\n\nFind out how you can share your own response to the consultation.\n\n\n\n\nClick here to book your place.
URL:https://learningforsustainabilityscotland.org/events/learning-for-sustainability-and-the-national-outcomes-for-scotland/
CATEGORIES:Colleges,Communities,Members' Event,Policy engagement,Schools and early learning,Universities,Youth
ATTACH;FMTTYPE=image/jpeg:https://learningforsustainabilityscotland.org/wp-content/uploads/2023/04/NPF-refresh-May-2023-wee.jpg
END:VEVENT
BEGIN:VEVENT
DTSTART;TZID=Europe/London:20230111T160000
DTEND;TZID=Europe/London:20230111T180000
DTSTAMP:20260423T134739
CREATED:20221110T192230Z
LAST-MODIFIED:20230104T182513Z
UID:7581-1673452800-1673460000@learningforsustainabilityscotland.org
SUMMARY:Our 2022 AGM and networking event: Transformational Change through Learning
DESCRIPTION:Learning for Sustainability Scotland warmly invites its members to attend its AGM and Networking event on Wednesday 11th January 2023. \n\n\n\n\nOur AGM and networking event – held online – is an excellent opportunity to network with other Learning for Sustainability Scotland members. \n\n\n\nThis year\, we’ll be hosting inspirational speakers and celebrating stories on the theme of ‘Transformational Change through Learning‘. \n    \n                \n    \n    \n\n\n\nJoin us on Wednesday 11 January 2023 from 16:00 – 18:00 for the chance to: \n\n\n\n\nEnjoy insights on the theme of ‘Transformational Change through Learning‘ from our keynote speaker\n\n\n\nBe inspired by stories of transformational change through learning from across our membership\n\n\n\nHear more about our activity over the past year\n\n\n\nHear more about the Steering Group members for 2023-2025\n\n\n\nConnect and network with other Learning for Sustainability Scotland members.\n\n\n\n\nClick here to book your place. \n\n\n\nClick here to view the programme \n\n\n\nWe look forward to welcoming you on 11th January 2023!
URL:https://learningforsustainabilityscotland.org/events/our-2022-agm-and-networking-event-transformational-change-through-learning/
CATEGORIES:Learning for Sustainability,Members' Event,Networking event
ATTACH;FMTTYPE=image/png:https://learningforsustainabilityscotland.org/wp-content/uploads/2022/11/2022-AGM.png
END:VEVENT
BEGIN:VEVENT
DTSTART;TZID=Europe/London:20221206T160000
DTEND;TZID=Europe/London:20221206T180000
DTSTAMP:20260423T134739
CREATED:20221019T200140Z
LAST-MODIFIED:20221110T150201Z
UID:7435-1670342400-1670349600@learningforsustainabilityscotland.org
SUMMARY:Connecting for Transformational Change through Learning
DESCRIPTION:J﻿oin Learning for Sustainability Scotland for the first of two members’ events focusing on ‘Transformational Change through Learning for Sustainability’.\n\n\n\nThis first event\, ‘Connecting for Transformational Change through Learning for Sustainability’ will be held in-person: \n\n\n\non: Tuesday 6 December 2022 from 4-6pm \n\n\n\nat: Leith Community Croft\, Leith Links (corner of John’s Place and Links Place)\, Leith\, Edinburgh\, EH6 7EY. \n\n\n\nJ﻿oin us for an evening of connection through food\, fire\, music and festivity. \n\n\n\nWe’ll hear from an inspirational speaker\, engage in group discussions and have the opportunity to network with contacts old and new. \n\n\n\nPlaces are limited\, so early booking is advised.  \n\n\n\nBook your place here.
URL:https://learningforsustainabilityscotland.org/events/connecting-for-transformational-change-through-learning/
LOCATION:Leith Community Croft\, Leith Links\, Edinburgh\, EH6 7EY
CATEGORIES:Members' Event,Networking event
ATTACH;FMTTYPE=image/jpeg:https://learningforsustainabilityscotland.org/wp-content/uploads/2021/01/LfSS-with-RCE-logos-final.jpg
END:VEVENT
END:VCALENDAR