BEGIN:VCALENDAR
VERSION:2.0
PRODID:-//Learning for Sustainability Scotland - ECPv6.15.20//NONSGML v1.0//EN
CALSCALE:GREGORIAN
METHOD:PUBLISH
X-ORIGINAL-URL:https://learningforsustainabilityscotland.org
X-WR-CALDESC:Events for Learning for Sustainability Scotland
REFRESH-INTERVAL;VALUE=DURATION:PT1H
X-Robots-Tag:noindex
X-PUBLISHED-TTL:PT1H
BEGIN:VTIMEZONE
TZID:Europe/London
BEGIN:DAYLIGHT
TZOFFSETFROM:+0000
TZOFFSETTO:+0100
TZNAME:BST
DTSTART:20170326T010000
END:DAYLIGHT
BEGIN:STANDARD
TZOFFSETFROM:+0100
TZOFFSETTO:+0000
TZNAME:GMT
DTSTART:20171029T010000
END:STANDARD
BEGIN:DAYLIGHT
TZOFFSETFROM:+0000
TZOFFSETTO:+0100
TZNAME:BST
DTSTART:20180325T010000
END:DAYLIGHT
BEGIN:STANDARD
TZOFFSETFROM:+0100
TZOFFSETTO:+0000
TZNAME:GMT
DTSTART:20181028T010000
END:STANDARD
BEGIN:DAYLIGHT
TZOFFSETFROM:+0000
TZOFFSETTO:+0100
TZNAME:BST
DTSTART:20190331T010000
END:DAYLIGHT
BEGIN:STANDARD
TZOFFSETFROM:+0100
TZOFFSETTO:+0000
TZNAME:GMT
DTSTART:20191027T010000
END:STANDARD
END:VTIMEZONE
BEGIN:VEVENT
DTSTART;TZID=Europe/London:20181006T100000
DTEND;TZID=Europe/London:20181006T160000
DTSTAMP:20260422T141923
CREATED:20180612T115140Z
LAST-MODIFIED:20190906T143729Z
UID:3439-1538820000-1538841600@learningforsustainabilityscotland.org
SUMMARY:Member Hosted Event: The Green Team - Nature Connections & Wilderness Skills CPD
DESCRIPTION:The Green Team is a voluntary organisation providing outdoor experiences for young people\, supporting them to learn about and connect with nature.\nGreen Team training offers bountiful opportunities to gain new skills and ideas for delivering outdoor learning\, learning for sustainability\, environmental activities or woodland skills. For more information about the courses featured below\, click on the Green Team Website link. \n– Nature Connections and Wilderness Skills\, 6th Oct\n– Woodland Arts and Crafts\, 13th Oct
URL:https://learningforsustainabilityscotland.org/events/member-hosted-event-the-green-team-nature-connections-wilderness-skills-cpd/
CATEGORIES:Member Hosted Event
END:VEVENT
BEGIN:VEVENT
DTSTART;VALUE=DATE:20180911
DTEND;VALUE=DATE:20180912
DTSTAMP:20260422T141923
CREATED:20180626T140128Z
LAST-MODIFIED:20190906T142713Z
UID:3470-1536624000-1536710399@learningforsustainabilityscotland.org
SUMMARY:TEESNET 11th Annual Conference: ‘Getting to the Heart of the SDGs’
DESCRIPTION:TEESNet welcomes UNESCO’s lead on Education for Sustainable Development to speak at its 11th annual conference  on 11th September 2018 at Liverpool Hope University.\nUNESCO’s Alexander Leicht will be joined by educator\, teacher and NGO delegates as well as fellow speakers Duncan Green\, Senior Strategic Adviser for Oxfam and Manju Patel Nair\, Education Consultant & Trainer from HEC Global Learning Centre\, to explore the conference theme: ‘Getting to the Heart of the UN’s Sustainable Development Goals’ (SDGs). \nThe conference will focus on the SDG’s and the role of teacher education in prompting critical engagement and action. The flyer is attached to this email. \nView the Flyer for information on speakers and workshops. \nClick on the link to book your place. \nQuestions can be sent to karen@liverpoolworldcentre.org  We’d love to meet some of you and support the sharing of experience and development of knowledge in this area of work.\n 
URL:https://learningforsustainabilityscotland.org/events/teesnet-11th-annual-conference-getting-to-the-heart-of-the-sdgs/
CATEGORIES:Member Hosted Event
END:VEVENT
BEGIN:VEVENT
DTSTART;TZID=Europe/London:20180901T100000
DTEND;TZID=Europe/London:20180901T160000
DTSTAMP:20260422T141923
CREATED:20180612T114910Z
LAST-MODIFIED:20190906T143648Z
UID:3437-1535796000-1535817600@learningforsustainabilityscotland.org
SUMMARY:Member Hosted Event: The Green Team - Using Stories & Literacy Outdoors CPD
DESCRIPTION:The Green Team is a voluntary organisation providing outdoor experiences for young people\, supporting them to learn about and connect with nature.\nGreen Team training offers bountiful opportunities to gain new skills and ideas for delivering outdoor learning\, learning for sustainability\, environmental activities or woodland skills. For more information about the courses featured below\, click on the Green Team Website link. \n\nUsing Stories and Literacy Outdoors\, 1st Sept\nNature Connections and Wilderness Skills\, 6th Oct\nWoodland Arts and Crafts\, 13th Oct
URL:https://learningforsustainabilityscotland.org/events/member-hosted-event-the-green-team-using-stories-literacy-outdoors-cpd/
CATEGORIES:Member Hosted Event
END:VEVENT
BEGIN:VEVENT
DTSTART;TZID=Europe/London:20180616T100000
DTEND;TZID=Europe/London:20180616T163000
DTSTAMP:20260422T141923
CREATED:20180612T114743Z
LAST-MODIFIED:20190906T143636Z
UID:3434-1529143200-1529166600@learningforsustainabilityscotland.org
SUMMARY:Member Hosted Event: Green Team Well Being in Nature CPD
DESCRIPTION:The Green Team is a voluntary organisation providing outdoor experiences for young people\, supporting them to learn about and connect with nature.\nGreen Team training offers bountiful opportunities to gain new skills and ideas for delivering outdoor learning\, learning for sustainability\, environmental activities or woodland skills. For more information about the courses featured below\, click on the Green Team Website link. \n\nWell Being in Nature\, 16th June\nUsing Stories and Literacy Outdoors\, 1st Sept\nNature Connections and Wilderness Skills\, 6th Oct\nWoodland Arts and Crafts\, 13th Oct
URL:https://learningforsustainabilityscotland.org/events/member-hosted-event-green-team-well-being-in-nature-cpd/
CATEGORIES:Member Hosted Event
END:VEVENT
BEGIN:VEVENT
DTSTART;TZID=Europe/London:20180615T150000
DTEND;TZID=Europe/London:20180615T190000
DTSTAMP:20260422T141923
CREATED:20180612T103501Z
LAST-MODIFIED:20190906T143145Z
UID:3421-1529074800-1529089200@learningforsustainabilityscotland.org
SUMMARY:Member Hosted Event: Good Food Nation Gathering
DESCRIPTION:Members: RSPB Scotland with The Power of Food Festival\nIn collaboration with The Power of Food Festival\, RSPB Scotland’s Giving Nature a Home team would like to invite you to an afternoon full of exciting discussions and workshops around wildlife\, food production and sustainability. \nThis year\, the Scottish government will be consulting on a new law for the food system\, the Good Food Nation Bill – we need your help to change our food system for the better. This event aims to bring together organisations\, community gardens and food producers in Edinburgh. Click on this link to book your place at this member hosted event. \nLocation: Madelvic House\, 33 Granton Park Avenue\, Edinburgh\, EH5 1HS
URL:https://learningforsustainabilityscotland.org/events/member-hosted-event-good-food-nation-gathering/
CATEGORIES:Member Hosted Event
END:VEVENT
BEGIN:VEVENT
DTSTART;TZID=Europe/London:20180524T170000
DTEND;TZID=Europe/London:20180524T180000
DTSTAMP:20260422T141923
CREATED:20180514T112429Z
LAST-MODIFIED:20190906T143234Z
UID:3317-1527181200-1527184800@learningforsustainabilityscotland.org
SUMMARY:Member Event: Professor Stephen Sterling Triple Change and Sustainability: Re-booting the response of Higher Education to a different world
DESCRIPTION:“There can have been very little thinking\, writing or policy development in the sustainability education field\, world -wide over the last 30 years that has not been informed to some extent by Stephen’s work. The impact on practitioners has been immense”. \nDr Stephen Sterling is: \n\nEmeritus Professor of Sustainability Education at the Centre for Sustainable Futures\, University of Plymouth\, UK.\nFormer Senior Advisor to the UK Higher Education Academy on Education for Sustainable Development (ESD)\,\na National Teaching Fellow\,\n\nHe has worked in environmental and sustainability education in the academic and NGO fields nationally and internationally for over four decades\, including as a consultant and advisor on UNESCO’S ESD programmes. \nHe is currently co-chair of the UNESCO-Japan Prize on ESD International Jury\, and a Distinguished Fellow of the Schumacher Institute.  He is widely published in this area\, the most recent book being Post-Sustainability and Environmental Education: Remaking Education for the Future\,  (co-edited with Bob Jickling\, Pivot/Palgrave\, 2017). \nFor further information contact: beth.christie@ed.ac.uk  \n 
URL:https://learningforsustainabilityscotland.org/events/member-event-professor-stephen-sterling-triple-change-and-sustainability-re-booting-the-response-of-higher-education-to-a-different-world/
CATEGORIES:Member Hosted Event,Past Events
END:VEVENT
END:VCALENDAR