BEGIN:VCALENDAR
VERSION:2.0
PRODID:-//Learning for Sustainability Scotland - ECPv6.15.20//NONSGML v1.0//EN
CALSCALE:GREGORIAN
METHOD:PUBLISH
X-WR-CALNAME:Learning for Sustainability Scotland
X-ORIGINAL-URL:https://learningforsustainabilityscotland.org
X-WR-CALDESC:Events for Learning for Sustainability Scotland
REFRESH-INTERVAL;VALUE=DURATION:PT1H
X-Robots-Tag:noindex
X-PUBLISHED-TTL:PT1H
BEGIN:VTIMEZONE
TZID:Europe/London
BEGIN:DAYLIGHT
TZOFFSETFROM:+0000
TZOFFSETTO:+0100
TZNAME:BST
DTSTART:20240331T010000
END:DAYLIGHT
BEGIN:STANDARD
TZOFFSETFROM:+0100
TZOFFSETTO:+0000
TZNAME:GMT
DTSTART:20241027T010000
END:STANDARD
BEGIN:DAYLIGHT
TZOFFSETFROM:+0000
TZOFFSETTO:+0100
TZNAME:BST
DTSTART:20250330T010000
END:DAYLIGHT
BEGIN:STANDARD
TZOFFSETFROM:+0100
TZOFFSETTO:+0000
TZNAME:GMT
DTSTART:20251026T010000
END:STANDARD
BEGIN:DAYLIGHT
TZOFFSETFROM:+0000
TZOFFSETTO:+0100
TZNAME:BST
DTSTART:20260329T010000
END:DAYLIGHT
BEGIN:STANDARD
TZOFFSETFROM:+0100
TZOFFSETTO:+0000
TZNAME:GMT
DTSTART:20261025T010000
END:STANDARD
END:VTIMEZONE
BEGIN:VEVENT
DTSTART;TZID=Europe/London:20250512T123000
DTEND;TZID=Europe/London:20250512T134500
DTSTAMP:20260423T121459
CREATED:20250429T205536Z
LAST-MODIFIED:20250429T205816Z
UID:9396-1747053000-1747057500@learningforsustainabilityscotland.org
SUMMARY:Critical Sustainability Conversations #1: Mapping the terrain around the SDGs
DESCRIPTION:This is the first in a new series of Critical Sustainability Conversations led by Learning for Sustainability Scotland.\n\n\n\nThis webinar is held in collaboration with Scotland’s SDG Network. \n\n\n\nClick here to book your free place. \n\n\n\nOverview \n\n\n\nThe UN Sustainable Development Goals (SDGs) have now been in place for a decade\, with only five years left to go until we reach their target date of 2030. Conversation is intensifying on how far we have come\, potential avenues for collaboration and where we go from here. \n\n\n\nJoin us in this webinar\, where we will map the future terrain of the SDGs in Scotland. We will explore the current ‘hot topics’ in relation to the SDGs\, consider who is involved so far\, and investigate how we can work together. This is an exciting time\, as Scotland’s SDG Network is galvanising further action through a revamped Basecamp site for active collaboration\, a brand new landing page and an open LinkedIn to widen the conservation. \n\n\n\nWe will also share the results of a new map illustrating ongoing work in Scotland and will offer participants an opportunity to put themselves ‘on the map’! \n\n\n\nThis webinar highlights positive possibilities for individuals\, organisations and nations to work together through the SDGs. \n\n\n\nClick here to book your free place. \n\n\n\nIt precedes the second Critical Sustainability Conversation on 28th May that will offer critical perspectives on the SDGs and suggest how we can consider them whilst attempting to decolonise the curriculum.
URL:https://learningforsustainabilityscotland.org/events/critical-sustainability-conversations-1-mapping-the-terrain-around-the-sdgs/
CATEGORIES:Learning for Sustainability
ATTACH;FMTTYPE=image/png:https://learningforsustainabilityscotland.org/wp-content/uploads/2025/04/Critical-Conversations-1-12-May-2025-1.png
END:VEVENT
END:VCALENDAR